Package: MCbiclust Version: 1.19.0 Command: chmod a+r MCbiclust -R && D:\biocbuild\bbs-3.15-bioc\R\bin\R.exe CMD build --keep-empty-dirs --no-resave-data MCbiclust StartedAt: 2022-03-17 17:17:58 -0400 (Thu, 17 Mar 2022) EndedAt: 2022-03-17 17:19:14 -0400 (Thu, 17 Mar 2022) EllapsedTime: 75.5 seconds RetCode: 0 Status: OK PackageFile: MCbiclust_1.19.0.tar.gz PackageFileSize: 3.68 MiB