git_url: https://git.bioconductor.org/packages/MBECS git_branch: RELEASE_3_15 git_last_commit: 748a3fb git_last_commit_date: 2022-04-26 12:21:40 -0400 (Tue, 26 Apr 2022) Package: MBECS Version: 1.0.0 Maintainer: Michael Olbrich MaintainerEmail: M.Olbrich at protonmail.com