Package: LymphoSeq Version: 1.23.0 Command: D:\biocbuild\bbs-3.15-bioc\R\bin\R.exe CMD check --no-multiarch --install=check:LymphoSeq.install-out.txt --library=D:\biocbuild\bbs-3.15-bioc\R\library --no-vignettes --timings LymphoSeq_1.23.0.tar.gz StartedAt: 2022-03-16 19:26:25 -0400 (Wed, 16 Mar 2022) EndedAt: 2022-03-16 19:29:24 -0400 (Wed, 16 Mar 2022) EllapsedTime: 178.8 seconds RetCode: 0 Status: OK CheckDir: LymphoSeq.Rcheck Warnings: 0