Package: LoomExperiment Version: 1.14.0 Command: /Library/Frameworks/R.framework/Resources/bin/R CMD build --keep-empty-dirs --no-resave-data LoomExperiment StartedAt: 2022-10-18 19:23:02 -0400 (Tue, 18 Oct 2022) EndedAt: 2022-10-18 19:24:01 -0400 (Tue, 18 Oct 2022) EllapsedTime: 59.2 seconds RetCode: 0 Status: OK PackageFile: LoomExperiment_1.14.0.tar.gz PackageFileSize: 252.7 KiB