Package: LACE Version: 2.0.0 Command: /Library/Frameworks/R.framework/Resources/bin/R CMD build --keep-empty-dirs --no-resave-data LACE StartedAt: 2022-10-18 19:19:46 -0400 (Tue, 18 Oct 2022) EndedAt: 2022-10-18 19:21:09 -0400 (Tue, 18 Oct 2022) EllapsedTime: 83.5 seconds RetCode: 0 Status: OK PackageFile: LACE_2.0.0.tar.gz PackageFileSize: 2.388 MiB