Package: LACE Version: 2.0.0 Command: rm -rf LACE.buildbin-libdir && mkdir LACE.buildbin-libdir && /Users/biocbuild/BBS/utils/build-universal.sh LACE_2.0.0.tar.gz /Library/Frameworks/R.framework/Resources/bin/R LACE.buildbin-libdir StartedAt: 2022-10-19 10:35:03 -0400 (Wed, 19 Oct 2022) EndedAt: 2022-10-19 10:36:10 -0400 (Wed, 19 Oct 2022) EllapsedTime: 67.1 seconds RetCode: 0 Status: OK PackageFile: LACE_2.0.0.tgz PackageFileSize: 1.805 MiB