Package: KinSwingR Version: 1.13.0 Command: chmod a+r KinSwingR -R && D:\biocbuild\bbs-3.15-bioc\R\bin\R.exe CMD build --keep-empty-dirs --no-resave-data KinSwingR StartedAt: 2022-03-17 17:14:40 -0400 (Thu, 17 Mar 2022) EndedAt: 2022-03-17 17:15:12 -0400 (Thu, 17 Mar 2022) EllapsedTime: 31.7 seconds RetCode: 0 Status: OK PackageFile: KinSwingR_1.13.0.tar.gz PackageFileSize: 550.7 KiB