Package: KEGGgraph Version: 1.56.0 Command: /Library/Frameworks/R.framework/Resources/bin/R CMD INSTALL KEGGgraph StartedAt: 2022-10-18 15:25:42 -0400 (Tue, 18 Oct 2022) EndedAt: 2022-10-18 15:25:56 -0400 (Tue, 18 Oct 2022) EllapsedTime: 13.5 seconds RetCode: 0 Status: OK