Package: KEGGgraph Version: 1.56.0 Command: rm -rf KEGGgraph.buildbin-libdir && mkdir KEGGgraph.buildbin-libdir && /Users/biocbuild/BBS/utils/build-universal.sh KEGGgraph_1.56.0.tar.gz /Library/Frameworks/R.framework/Resources/bin/R KEGGgraph.buildbin-libdir StartedAt: 2022-10-19 10:34:33 -0400 (Wed, 19 Oct 2022) EndedAt: 2022-10-19 10:34:48 -0400 (Wed, 19 Oct 2022) EllapsedTime: 14.4 seconds RetCode: 0 Status: OK PackageFile: KEGGgraph_1.56.0.tgz PackageFileSize: 1.584 MiB