Package: KBoost Version: 1.3.0 Command: chmod a+r KBoost -R && D:\biocbuild\bbs-3.15-bioc\R\bin\R.exe CMD build --keep-empty-dirs --no-resave-data KBoost StartedAt: 2022-03-17 17:14:17 -0400 (Thu, 17 Mar 2022) EndedAt: 2022-03-17 17:14:27 -0400 (Thu, 17 Mar 2022) EllapsedTime: 9.8 seconds RetCode: 0 Status: OK PackageFile: KBoost_1.3.0.tar.gz PackageFileSize: 503.9 KiB