git_url: https://git.bioconductor.org/packages/InterMineR git_branch: RELEASE_3_15 git_last_commit: 760e538 git_last_commit_date: 2022-04-26 11:43:08 -0400 (Tue, 26 Apr 2022) Package: InterMineR Version: 1.18.0 Maintainer: InterMine Team MaintainerEmail: r.lyne at gen.cam.ac.uk