Package: IWTomics Version: 1.19.1 Command: rm -rf IWTomics.buildbin-libdir && mkdir IWTomics.buildbin-libdir && D:\biocbuild\bbs-3.15-bioc\R\bin\R.exe CMD INSTALL --build --library=IWTomics.buildbin-libdir IWTomics_1.19.1.tar.gz StartedAt: 2022-03-17 21:16:52 -0400 (Thu, 17 Mar 2022) EndedAt: 2022-03-17 21:18:02 -0400 (Thu, 17 Mar 2022) EllapsedTime: 69.4 seconds RetCode: 0 Status: OK PackageFile: IWTomics_1.19.1.zip PackageFileSize: 1.668 MiB