Package: IWTomics Version: 1.20.0 Command: /Library/Frameworks/R.framework/Resources/bin/R CMD build --keep-empty-dirs --no-resave-data IWTomics StartedAt: 2022-10-18 19:18:16 -0400 (Tue, 18 Oct 2022) EndedAt: 2022-10-18 19:21:15 -0400 (Tue, 18 Oct 2022) EllapsedTime: 178.8 seconds RetCode: 0 Status: OK PackageFile: IWTomics_1.20.0.tar.gz PackageFileSize: 1.387 MiB