Package: IWTomics Version: 1.20.0 Command: rm -rf IWTomics.buildbin-libdir && mkdir IWTomics.buildbin-libdir && /Users/biocbuild/BBS/utils/build-universal.sh IWTomics_1.20.0.tar.gz /Library/Frameworks/R.framework/Resources/bin/R IWTomics.buildbin-libdir StartedAt: 2022-10-19 10:34:25 -0400 (Wed, 19 Oct 2022) EndedAt: 2022-10-19 10:35:03 -0400 (Wed, 19 Oct 2022) EllapsedTime: 37.8 seconds RetCode: 0 Status: OK PackageFile: IWTomics_1.20.0.tgz PackageFileSize: 1.754 MiB