Package: HubPub Version: 1.3.3 Command: rm -rf HubPub.buildbin-libdir && mkdir HubPub.buildbin-libdir && D:\biocbuild\bbs-3.15-bioc\R\bin\R.exe CMD INSTALL --build --library=HubPub.buildbin-libdir HubPub_1.3.3.tar.gz StartedAt: 2022-03-17 21:14:40 -0400 (Thu, 17 Mar 2022) EndedAt: 2022-03-17 21:15:52 -0400 (Thu, 17 Mar 2022) EllapsedTime: 72.0 seconds RetCode: 0 Status: OK PackageFile: HubPub_1.3.3.zip PackageFileSize: 951.4 KiB