Package: HiTC Version: 1.39.0 Command: rm -rf HiTC.buildbin-libdir && mkdir HiTC.buildbin-libdir && D:\biocbuild\bbs-3.15-bioc\R\bin\R.exe CMD INSTALL --build --library=HiTC.buildbin-libdir HiTC_1.39.0.tar.gz StartedAt: 2022-03-17 21:14:27 -0400 (Thu, 17 Mar 2022) EndedAt: 2022-03-17 21:15:38 -0400 (Thu, 17 Mar 2022) EllapsedTime: 71.5 seconds RetCode: 0 Status: OK PackageFile: HiTC_1.39.0.zip PackageFileSize: 3.622 MiB