Package: HMMcopy Version: 1.37.1 Command: chmod a+r HMMcopy -R && D:\biocbuild\bbs-3.15-bioc\R\bin\R.exe CMD build --keep-empty-dirs --no-resave-data HMMcopy StartedAt: 2022-03-17 17:10:30 -0400 (Thu, 17 Mar 2022) EndedAt: 2022-03-17 17:11:10 -0400 (Thu, 17 Mar 2022) EllapsedTime: 40.2 seconds RetCode: 0 Status: OK PackageFile: HMMcopy_1.37.1.tar.gz PackageFileSize: 1.275 MiB