Package: HIREewas Version: 1.13.0 Command: rm -rf HIREewas.buildbin-libdir && mkdir HIREewas.buildbin-libdir && D:\biocbuild\bbs-3.15-bioc\R\bin\R.exe CMD INSTALL --build --library=HIREewas.buildbin-libdir HIREewas_1.13.0.tar.gz StartedAt: 2022-03-17 21:14:25 -0400 (Thu, 17 Mar 2022) EndedAt: 2022-03-17 21:15:36 -0400 (Thu, 17 Mar 2022) EllapsedTime: 70.8 seconds RetCode: 0 Status: OK PackageFile: HIREewas_1.13.0.zip PackageFileSize: 290.7 KiB