Package: Guitar Version: 2.11.0 Command: chmod a+r Guitar -R && D:\biocbuild\bbs-3.15-bioc\R\bin\R.exe CMD build --keep-empty-dirs --no-resave-data Guitar StartedAt: 2022-03-17 17:08:10 -0400 (Thu, 17 Mar 2022) EndedAt: 2022-03-17 17:18:42 -0400 (Thu, 17 Mar 2022) EllapsedTime: 631.7 seconds RetCode: 0 Status: OK PackageFile: Guitar_2.11.0.tar.gz PackageFileSize: 3.681 MiB