Package: Guitar Version: 2.11.0 Command: rm -rf Guitar.buildbin-libdir && mkdir Guitar.buildbin-libdir && D:\biocbuild\bbs-3.15-bioc\R\bin\R.exe CMD INSTALL --build --library=Guitar.buildbin-libdir Guitar_2.11.0.tar.gz StartedAt: 2022-03-17 21:13:34 -0400 (Thu, 17 Mar 2022) EndedAt: 2022-03-17 21:14:47 -0400 (Thu, 17 Mar 2022) EllapsedTime: 72.7 seconds RetCode: 0 Status: OK PackageFile: Guitar_2.11.0.zip PackageFileSize: 3.717 MiB