Package: GeoDiff Version: 1.2.0 Command: rm -rf GeoDiff.buildbin-libdir && mkdir GeoDiff.buildbin-libdir && /Users/biocbuild/BBS/utils/build-universal.sh GeoDiff_1.2.0.tar.gz /Library/Frameworks/R.framework/Resources/bin/R GeoDiff.buildbin-libdir StartedAt: 2022-10-19 10:25:58 -0400 (Wed, 19 Oct 2022) EndedAt: 2022-10-19 10:29:06 -0400 (Wed, 19 Oct 2022) EllapsedTime: 188.2 seconds RetCode: 0 Status: OK PackageFile: GeoDiff_1.2.0.tgz PackageFileSize: 4.715 MiB