Package: GenomicInteractionNodes Version: 1.0.0 Command: /Library/Frameworks/R.framework/Resources/bin/R CMD build --keep-empty-dirs --no-resave-data GenomicInteractionNodes StartedAt: 2022-10-18 18:42:05 -0400 (Tue, 18 Oct 2022) EndedAt: 2022-10-18 18:44:38 -0400 (Tue, 18 Oct 2022) EllapsedTime: 153.2 seconds RetCode: 0 Status: OK PackageFile: GenomicInteractionNodes_1.0.0.tar.gz PackageFileSize: 248.4 KiB