Package: GenomicInteractionNodes Version: 1.0.0 Command: rm -rf GenomicInteractionNodes.buildbin-libdir && mkdir GenomicInteractionNodes.buildbin-libdir && /Users/biocbuild/BBS/utils/build-universal.sh GenomicInteractionNodes_1.0.0.tar.gz /Library/Frameworks/R.framework/Resources/bin/R GenomicInteractionNodes.buildbin-libdir StartedAt: 2022-10-19 10:25:26 -0400 (Wed, 19 Oct 2022) EndedAt: 2022-10-19 10:26:35 -0400 (Wed, 19 Oct 2022) EllapsedTime: 69.9 seconds RetCode: 0 Status: OK PackageFile: GenomicInteractionNodes_1.0.0.tgz PackageFileSize: 271.8 KiB