Package: GenomicDataCommons Version: 1.20.3 Command: chmod a+r GenomicDataCommons -R && F:\biocbuild\bbs-3.15-bioc\R\bin\R.exe CMD build --keep-empty-dirs --no-resave-data GenomicDataCommons StartedAt: 2022-10-18 18:45:22 -0400 (Tue, 18 Oct 2022) EndedAt: 2022-10-18 18:46:35 -0400 (Tue, 18 Oct 2022) EllapsedTime: 72.6 seconds RetCode: 0 Status: OK PackageFile: GenomicDataCommons_1.20.3.tar.gz PackageFileSize: 2.121 MiB