Package: GeneOverlap Version: 1.32.0 Command: /Library/Frameworks/R.framework/Resources/bin/R CMD check --install=check:GeneOverlap.install-out.txt --library=/Library/Frameworks/R.framework/Resources/library --no-vignettes --timings GeneOverlap_1.32.0.tar.gz StartedAt: 2022-10-19 02:44:11 -0400 (Wed, 19 Oct 2022) EndedAt: 2022-10-19 02:44:55 -0400 (Wed, 19 Oct 2022) EllapsedTime: 44.9 seconds RetCode: 0 Status: OK CheckDir: GeneOverlap.Rcheck Warnings: 0