Package: GWASTools Version: 1.42.1 Command: /home/biocbuild/bbs-3.15-bioc/R/bin/R CMD build --keep-empty-dirs --no-resave-data GWASTools StartedAt: 2022-10-18 16:50:38 -0400 (Tue, 18 Oct 2022) EndedAt: 2022-10-18 16:51:32 -0400 (Tue, 18 Oct 2022) EllapsedTime: 54.3 seconds RetCode: 0 Status: OK PackageFile: GWASTools_1.42.1.tar.gz PackageFileSize: 1.555 MiB