Package: GSEAlm Version: 1.55.0 Command: D:\biocbuild\bbs-3.15-bioc\R\bin\R.exe CMD check --no-multiarch --install=check:GSEAlm.install-out.txt --library=D:\biocbuild\bbs-3.15-bioc\R\library --no-vignettes --timings GSEAlm_1.55.0.tar.gz StartedAt: 2022-03-17 19:16:41 -0400 (Thu, 17 Mar 2022) EndedAt: 2022-03-17 19:17:23 -0400 (Thu, 17 Mar 2022) EllapsedTime: 42.4 seconds RetCode: 0 Status: OK CheckDir: GSEAlm.Rcheck Warnings: 0