Package: GSCA Version: 2.26.0 Command: /Library/Frameworks/R.framework/Resources/bin/R CMD INSTALL GSCA StartedAt: 2022-10-18 15:35:03 -0400 (Tue, 18 Oct 2022) EndedAt: 2022-10-18 15:35:25 -0400 (Tue, 18 Oct 2022) EllapsedTime: 21.8 seconds RetCode: 0 Status: OK