Package: GSCA Version: 2.26.0 Command: /Library/Frameworks/R.framework/Resources/bin/R CMD build --keep-empty-dirs --no-resave-data GSCA StartedAt: 2022-10-18 18:57:34 -0400 (Tue, 18 Oct 2022) EndedAt: 2022-10-18 18:58:05 -0400 (Tue, 18 Oct 2022) EllapsedTime: 31.1 seconds RetCode: 0 Status: OK PackageFile: GSCA_2.26.0.tar.gz PackageFileSize: 2.283 MiB