Package: GSCA Version: 2.26.0 Command: rm -rf GSCA.buildbin-libdir && mkdir GSCA.buildbin-libdir && /Users/biocbuild/BBS/utils/build-universal.sh GSCA_2.26.0.tar.gz /Library/Frameworks/R.framework/Resources/bin/R GSCA.buildbin-libdir StartedAt: 2022-10-19 10:29:03 -0400 (Wed, 19 Oct 2022) EndedAt: 2022-10-19 10:29:18 -0400 (Wed, 19 Oct 2022) EllapsedTime: 14.6 seconds RetCode: 0 Status: OK PackageFile: GSCA_2.26.0.tgz PackageFileSize: 2.342 MiB