git_url: https://git.bioconductor.org/packages/GRridge git_branch: RELEASE_3_15 git_last_commit: 08e1cc9 git_last_commit_date: 2022-04-26 11:37:45 -0400 (Tue, 26 Apr 2022) Package: GRridge Version: 1.20.0 Maintainer: Mark A. van de Wiel MaintainerEmail: mark.vdwiel at vumc.nl