Package: GRmetrics Version: 1.21.0 Command: D:\biocbuild\bbs-3.15-bioc\R\bin\R.exe CMD check --no-multiarch --install=check:GRmetrics.install-out.txt --library=D:\biocbuild\bbs-3.15-bioc\R\library --no-vignettes --timings GRmetrics_1.21.0.tar.gz StartedAt: 2022-03-17 19:15:59 -0400 (Thu, 17 Mar 2022) EndedAt: 2022-03-17 19:18:17 -0400 (Thu, 17 Mar 2022) EllapsedTime: 138.4 seconds RetCode: 0 Status: OK CheckDir: GRmetrics.Rcheck Warnings: 0