Package: GRmetrics Version: 1.21.0 Command: rm -rf GRmetrics.buildbin-libdir && mkdir GRmetrics.buildbin-libdir && D:\biocbuild\bbs-3.15-bioc\R\bin\R.exe CMD INSTALL --build --library=GRmetrics.buildbin-libdir GRmetrics_1.21.0.tar.gz StartedAt: 2022-03-17 21:13:11 -0400 (Thu, 17 Mar 2022) EndedAt: 2022-03-17 21:14:15 -0400 (Thu, 17 Mar 2022) EllapsedTime: 64.0 seconds RetCode: 0 Status: OK PackageFile: GRmetrics_1.21.0.zip PackageFileSize: 1.665 MiB