Package: GRmetrics Version: 1.22.0 Command: /Library/Frameworks/R.framework/Resources/bin/R CMD INSTALL GRmetrics StartedAt: 2022-10-18 15:58:11 -0400 (Tue, 18 Oct 2022) EndedAt: 2022-10-18 15:58:47 -0400 (Tue, 18 Oct 2022) EllapsedTime: 36.0 seconds RetCode: 0 Status: OK