Package: GRmetrics Version: 1.22.0 Command: rm -rf GRmetrics.buildbin-libdir && mkdir GRmetrics.buildbin-libdir && /Users/biocbuild/BBS/utils/build-universal.sh GRmetrics_1.22.0.tar.gz /Library/Frameworks/R.framework/Resources/bin/R GRmetrics.buildbin-libdir StartedAt: 2022-10-19 10:28:52 -0400 (Wed, 19 Oct 2022) EndedAt: 2022-10-19 10:29:34 -0400 (Wed, 19 Oct 2022) EllapsedTime: 41.7 seconds RetCode: 0 Status: OK PackageFile: GRmetrics_1.22.0.tgz PackageFileSize: 1.907 MiB