Package: GOexpress Version: 1.30.0 Command: rm -rf GOexpress.buildbin-libdir && mkdir GOexpress.buildbin-libdir && F:\biocbuild\bbs-3.15-bioc\R\bin\R.exe CMD INSTALL --build --library=GOexpress.buildbin-libdir GOexpress_1.30.0.tar.gz StartedAt: 2022-10-19 05:58:38 -0400 (Wed, 19 Oct 2022) EndedAt: 2022-10-19 05:59:12 -0400 (Wed, 19 Oct 2022) EllapsedTime: 33.6 seconds RetCode: 0 Status: OK PackageFile: GOexpress_1.30.0.zip PackageFileSize: 3.024 MiB