Package: GOSemSim Version: 2.22.0 Command: /Library/Frameworks/R.framework/Resources/bin/R CMD check --install=check:GOSemSim.install-out.txt --library=/Library/Frameworks/R.framework/Resources/library --no-vignettes --timings GOSemSim_2.22.0.tar.gz StartedAt: 2022-10-19 03:06:04 -0400 (Wed, 19 Oct 2022) EndedAt: 2022-10-19 03:09:44 -0400 (Wed, 19 Oct 2022) EllapsedTime: 220.0 seconds RetCode: 0 Status: OK CheckDir: GOSemSim.Rcheck Warnings: 0