Package: GOSemSim Version: 2.22.0 Command: rm -rf GOSemSim.buildbin-libdir && mkdir GOSemSim.buildbin-libdir && /Users/biocbuild/BBS/utils/build-universal.sh GOSemSim_2.22.0.tar.gz /Library/Frameworks/R.framework/Resources/bin/R GOSemSim.buildbin-libdir StartedAt: 2022-10-19 10:27:56 -0400 (Wed, 19 Oct 2022) EndedAt: 2022-10-19 10:28:48 -0400 (Wed, 19 Oct 2022) EllapsedTime: 52.0 seconds RetCode: 0 Status: OK PackageFile: GOSemSim_2.22.0.tgz PackageFileSize: 899.2 KiB