############################################################################## ############################################################################## ### ### Running command: ### ### D:\biocbuild\bbs-3.15-bioc\R\bin\R.exe CMD INSTALL GIGSEA ### ############################################################################## ############################################################################## * installing to library 'D:/biocbuild/bbs-3.15-bioc/R/library' * installing *source* package 'GIGSEA' ... ** using staged installation ** R ** data *** moving datasets to lazyload DB ** inst ** byte-compile and prepare package for lazy loading ** help *** installing help indices converting help for package 'GIGSEA' finding HTML links ... done MSigDB.KEGG.Pathway html MSigDB.TF html MSigDB.miRNA html TargetScan.miRNA html dataFrame2geneSet html geneSet2Net html geneSet2sparseMatrix html gmt2geneSet html heart.metaXcan html matrixPval html orderedIntersect html permutationMultipleLm html permutationMultipleLmMatrix html permutationSimpleLm html permutationSimpleLmMatrix html runGIGSEA html weightedGSEA html weightedMultipleLm html weightedPearsonCorr html ** building package indices ** installing vignettes ** testing if installed package can be loaded from temporary location ** testing if installed package can be loaded from final location ** testing if installed package keeps a record of temporary installation path * DONE (GIGSEA) Making 'packages.html' ... done