Package: GIGSEA Version: 1.13.0 Command: chmod a+r GIGSEA -R && D:\biocbuild\bbs-3.15-bioc\R\bin\R.exe CMD build --keep-empty-dirs --no-resave-data GIGSEA StartedAt: 2022-03-17 17:01:24 -0400 (Thu, 17 Mar 2022) EndedAt: 2022-03-17 17:04:53 -0400 (Thu, 17 Mar 2022) EllapsedTime: 208.6 seconds RetCode: 0 Status: OK PackageFile: GIGSEA_1.13.0.tar.gz PackageFileSize: 1.321 MiB