Package: GCSscore Version: 1.10.0 Command: chmod a+r GCSscore -R && F:\biocbuild\bbs-3.15-bioc\R\bin\R.exe CMD build --keep-empty-dirs --no-resave-data GCSscore StartedAt: 2022-10-18 18:41:51 -0400 (Tue, 18 Oct 2022) EndedAt: 2022-10-18 18:44:48 -0400 (Tue, 18 Oct 2022) EllapsedTime: 177.4 seconds RetCode: 0 Status: OK PackageFile: GCSscore_1.10.0.tar.gz PackageFileSize: 4.169 MiB