Package: GCSscore Version: 1.10.0 Command: rm -rf GCSscore.buildbin-libdir && mkdir GCSscore.buildbin-libdir && F:\biocbuild\bbs-3.15-bioc\R\bin\R.exe CMD INSTALL --build --library=GCSscore.buildbin-libdir GCSscore_1.10.0.tar.gz StartedAt: 2022-10-19 05:55:14 -0400 (Wed, 19 Oct 2022) EndedAt: 2022-10-19 05:55:43 -0400 (Wed, 19 Oct 2022) EllapsedTime: 29.0 seconds RetCode: 0 Status: OK PackageFile: GCSscore_1.10.0.zip PackageFileSize: 4.259 MiB