Package: GAPGOM Version: 1.11.0 Command: D:\biocbuild\bbs-3.15-bioc\R\bin\R.exe CMD INSTALL GAPGOM StartedAt: 2022-03-17 15:58:22 -0400 (Thu, 17 Mar 2022) EndedAt: 2022-03-17 15:59:50 -0400 (Thu, 17 Mar 2022) EllapsedTime: 87.8 seconds RetCode: 0 Status: OK