Package: FlowSOM Version: 2.3.0 Command: D:\biocbuild\bbs-3.15-bioc\R\bin\R.exe CMD INSTALL FlowSOM StartedAt: 2022-03-17 16:15:42 -0400 (Thu, 17 Mar 2022) EndedAt: 2022-03-17 16:17:24 -0400 (Thu, 17 Mar 2022) EllapsedTime: 101.9 seconds RetCode: 0 Status: OK