Package: FELLA Version: 1.16.0 Command: rm -rf FELLA.buildbin-libdir && mkdir FELLA.buildbin-libdir && F:\biocbuild\bbs-3.15-bioc\R\bin\R.exe CMD INSTALL --build --library=FELLA.buildbin-libdir FELLA_1.16.0.tar.gz StartedAt: 2022-10-19 05:53:09 -0400 (Wed, 19 Oct 2022) EndedAt: 2022-10-19 05:53:37 -0400 (Wed, 19 Oct 2022) EllapsedTime: 27.8 seconds RetCode: 0 Status: OK PackageFile: FELLA_1.16.0.zip PackageFileSize: 3.058 MiB