Package: FELLA Version: 1.16.0 Command: /Library/Frameworks/R.framework/Resources/bin/R CMD build --keep-empty-dirs --no-resave-data FELLA StartedAt: 2022-10-18 18:28:51 -0400 (Tue, 18 Oct 2022) EndedAt: 2022-10-18 18:40:46 -0400 (Tue, 18 Oct 2022) EllapsedTime: 715.7 seconds RetCode: 0 Status: OK PackageFile: FELLA_1.16.0.tar.gz PackageFileSize: 4.002 MiB