Package: ExCluster Version: 1.14.0 Command: /home/biocbuild/bbs-3.15-bioc/R/bin/R CMD build --keep-empty-dirs --no-resave-data ExCluster StartedAt: 2022-10-18 16:35:38 -0400 (Tue, 18 Oct 2022) EndedAt: 2022-10-18 16:36:16 -0400 (Tue, 18 Oct 2022) EllapsedTime: 38.0 seconds RetCode: 0 Status: OK PackageFile: ExCluster_1.14.0.tar.gz PackageFileSize: 284.9 KiB