Package: EventPointer Version: 3.3.1 Command: D:\biocbuild\bbs-3.15-bioc\R\bin\R.exe CMD INSTALL EventPointer StartedAt: 2022-03-17 16:08:25 -0400 (Thu, 17 Mar 2022) EndedAt: 2022-03-17 16:09:48 -0400 (Thu, 17 Mar 2022) EllapsedTime: 83.1 seconds RetCode: 0 Status: OK