Package: EBSeq Version: 1.35.0 Command: chmod a+r EBSeq -R && D:\biocbuild\bbs-3.15-bioc\R\bin\R.exe CMD build --keep-empty-dirs --no-resave-data EBSeq StartedAt: 2022-03-17 16:47:14 -0400 (Thu, 17 Mar 2022) EndedAt: 2022-03-17 16:48:23 -0400 (Thu, 17 Mar 2022) EllapsedTime: 69.5 seconds RetCode: 0 Status: OK PackageFile: EBSeq_1.35.0.tar.gz PackageFileSize: 1.316 MiB