Package: Dune Version: 1.7.0 Command: D:\biocbuild\bbs-3.15-bioc\R\bin\R.exe CMD INSTALL Dune StartedAt: 2022-03-17 15:52:38 -0400 (Thu, 17 Mar 2022) EndedAt: 2022-03-17 15:53:47 -0400 (Thu, 17 Mar 2022) EllapsedTime: 69.3 seconds RetCode: 0 Status: OK